BEGIN:VCALENDAR
VERSION:2.0
PRODID:-//hacksw/handcal//NONSGML v1.0//EN
BEGIN:VEVENT
UID:5420@carbolite
ORGANIZER:CN=Carbolite Gero GmbH & Co. KG
DTSTART;VALUE=DATE:20250603
DTEND;VALUE=DATE:20250606
SUMMARY:3D Print
LOCATION:Hall EUREXPO Hall 7 - Lyon - France
END:VEVENT
END:VCALENDAR