BEGIN:VCALENDAR
VERSION:2.0
PRODID:-//hacksw/handcal//NONSGML v1.0//EN
BEGIN:VEVENT
UID:5391@carbolite
ORGANIZER:CN=Carbolite Gero GmbH & Co. KG
DTSTART;VALUE=DATE:20250320
DTEND;VALUE=DATE:20250322
SUMMARY:LABORAMA: come and see all Verder Scientific Manufacturers
LOCATION:Hall Hall 3 - Booth C17 - Brussels - Belgium
END:VEVENT
END:VCALENDAR