BEGIN:VCALENDAR
VERSION:2.0
PRODID:-//hacksw/handcal//NONSGML v1.0//EN
BEGIN:VEVENT
UID:5358@carbolite
ORGANIZER:CN=Carbolite Gero GmbH & Co. KG
DTSTART;VALUE=DATE:20250915
DTEND;VALUE=DATE:20250920
SUMMARY:Nano Innovation @ University of La Sapienza Congress
LOCATION:Booth 3 - Roma - Italy
END:VEVENT
END:VCALENDAR