BEGIN:VCALENDAR
VERSION:2.0
PRODID:-//hacksw/handcal//NONSGML v1.0//EN
BEGIN:VEVENT
UID:5357@carbolite
ORGANIZER:CN=Carbolite Gero GmbH & Co. KG
DTSTART;VALUE=DATE:20251104
DTEND;VALUE=DATE:20251108
SUMMARY:ECOMONDO
LOCATION:Rimini - Italy
END:VEVENT
END:VCALENDAR