BEGIN:VCALENDAR
VERSION:2.0
PRODID:-//hacksw/handcal//NONSGML v1.0//EN
BEGIN:VEVENT
UID:4850@carbolite
ORGANIZER:CN=Carbolite Gero GmbH & Co. KG
DTSTART;VALUE=DATE:20241119
DTEND;VALUE=DATE:20241123
SUMMARY:Formnext
LOCATION:Frankfurt am Main - Germany
END:VEVENT
END:VCALENDAR