BEGIN:VCALENDAR
VERSION:2.0
PRODID:-//hacksw/handcal//NONSGML v1.0//EN
BEGIN:VEVENT
UID:4837@carbolite
ORGANIZER:CN=Carbolite Gero GmbH & Co. KG
DTSTART;VALUE=DATE:20241016
DTEND;VALUE=DATE:20241019
SUMMARY:BATTERIES EVENT
LOCATION:Booth Stand A22 - Lyon - France
END:VEVENT
END:VCALENDAR