BEGIN:VCALENDAR
VERSION:2.0
PRODID:-//hacksw/handcal//NONSGML v1.0//EN
BEGIN:VEVENT
UID:4808@carbolite
ORGANIZER:CN=Carbolite Gero GmbH & Co. KG
DTSTART;VALUE=DATE:20241105
DTEND;VALUE=DATE:20241109
SUMMARY:ECOMONDO
LOCATION:Hall D6 - Booth 220 - Rimini - Italy
END:VEVENT
END:VCALENDAR