BEGIN:VCALENDAR
VERSION:2.0
PRODID:-//hacksw/handcal//NONSGML v1.0//EN
BEGIN:VEVENT
UID:4807@carbolite
ORGANIZER:CN=Carbolite Gero GmbH & Co. KG
DTSTART;VALUE=DATE:20240826
DTEND;VALUE=DATE:20240831
SUMMARY:SCI2024
LOCATION:Milano (I) - Italy
END:VEVENT
END:VCALENDAR