BEGIN:VCALENDAR
VERSION:2.0
PRODID:-//hacksw/handcal//NONSGML v1.0//EN
BEGIN:VEVENT
UID:4748@carbolite
ORGANIZER:CN=Carbolite Gero GmbH & Co. KG
DTSTART;VALUE=DATE:20240203

SUMMARY:Philly Material Science Day
LOCATION:Drexel University, Phila, PA - United States
END:VEVENT
END:VCALENDAR