BEGIN:VCALENDAR
VERSION:2.0
PRODID:-//hacksw/handcal//NONSGML v1.0//EN
BEGIN:VEVENT
UID:4733@carbolite
ORGANIZER:CN=Carbolite Gero GmbH & Co. KG
DTSTART;VALUE=DATE:20240626
DTEND;VALUE=DATE:20240628
SUMMARY:Carbon Capture Houston
LOCATION:Houston, TX  - United States
END:VEVENT
END:VCALENDAR