BEGIN:VCALENDAR
VERSION:2.0
PRODID:-//hacksw/handcal//NONSGML v1.0//EN
BEGIN:VEVENT
UID:4731@carbolite
ORGANIZER:CN=Carbolite Gero GmbH & Co. KG
DTSTART;VALUE=DATE:20240625
DTEND;VALUE=DATE:20240628
SUMMARY:Rapid + TCT
LOCATION:Booth 1550 - Los Angelas. CA (LA Convention Center) - United States
END:VEVENT
END:VCALENDAR