BEGIN:VCALENDAR
VERSION:2.0
PRODID:-//hacksw/handcal//NONSGML v1.0//EN
BEGIN:VEVENT
UID:4698@carbolite
ORGANIZER:CN=Carbolite Gero GmbH & Co. KG
DTSTART;VALUE=DATE:20240605
DTEND;VALUE=DATE:20240607
SUMMARY:Salon A3TS
LOCATION:Toulouse - France
END:VEVENT
END:VCALENDAR