BEGIN:VCALENDAR
VERSION:2.0
PRODID:-//hacksw/handcal//NONSGML v1.0//EN
BEGIN:VEVENT
UID:4677@carbolite
ORGANIZER:CN=Carbolite Gero GmbH & Co. KG
DTSTART;VALUE=DATE:20230329
DTEND;VALUE=DATE:20230401
SUMMARY:MECSPE
LOCATION:Hall 29 - Booth B55 - Bologna - Italy
END:VEVENT
END:VCALENDAR