BEGIN:VCALENDAR
VERSION:2.0
PRODID:-//hacksw/handcal//NONSGML v1.0//EN
BEGIN:VEVENT
UID:4675@carbolite
ORGANIZER:CN=Carbolite Gero GmbH & Co. KG
DTSTART;VALUE=DATE:20240214
DTEND;VALUE=DATE:20240217
SUMMARY:A&T
LOCATION:Booth E40;E42 - Turin - Italy
END:VEVENT
END:VCALENDAR