BEGIN:VCALENDAR
VERSION:2.0
PRODID:-//hacksw/handcal//NONSGML v1.0//EN
BEGIN:VEVENT
UID:4635@carbolite
ORGANIZER:CN=Carbolite Gero GmbH & Co. KG
DTSTART;VALUE=DATE:20230606
DTEND;VALUE=DATE:20230610
SUMMARY:EPHJ
LOCATION:Booth D122 - Palexpo, Genève - Switzerland
END:VEVENT
END:VCALENDAR