BEGIN:VCALENDAR
VERSION:2.0
PRODID:-//hacksw/handcal//NONSGML v1.0//EN
BEGIN:VEVENT
UID:4527@carbolite
ORGANIZER:CN=Carbolite Gero GmbH & Co. KG
DTSTART;VALUE=DATE:20231128
DTEND;VALUE=DATE:20231202
SUMMARY:Marijuana Business Conference & Cannabis Expo
LOCATION:Las Vegas, NV - 
END:VEVENT
END:VCALENDAR