BEGIN:VCALENDAR
VERSION:2.0
PRODID:-//hacksw/handcal//NONSGML v1.0//EN
BEGIN:VEVENT
UID:4526@carbolite
ORGANIZER:CN=Carbolite Gero GmbH & Co. KG
DTSTART;VALUE=DATE:20231017
DTEND;VALUE=DATE:20231020
SUMMARY:Heat Treat
LOCATION:Booth #1818 - Detroit, MI - United States
END:VEVENT
END:VCALENDAR