BEGIN:VCALENDAR
VERSION:2.0
PRODID:-//hacksw/handcal//NONSGML v1.0//EN
BEGIN:VEVENT
UID:4525@carbolite
ORGANIZER:CN=Carbolite Gero GmbH & Co. KG
DTSTART;VALUE=DATE:20230618
DTEND;VALUE=DATE:20230622
SUMMARY:PowderMet
LOCATION:Booth #304 - Las Vegas, NV - United States
END:VEVENT
END:VCALENDAR