BEGIN:VCALENDAR
VERSION:2.0
PRODID:-//hacksw/handcal//NONSGML v1.0//EN
BEGIN:VEVENT
UID:4449@carbolite
ORGANIZER:CN=Carbolite Gero GmbH & Co. KG
DTSTART;VALUE=DATE:20221102
DTEND;VALUE=DATE:20221104
SUMMARY:Advanced Engineering & Lab Innovations
LOCATION:Hall NEC - Booth M142 - Birmingham - United Kingdom
END:VEVENT
END:VCALENDAR