BEGIN:VCALENDAR
VERSION:2.0
PRODID:-//hacksw/handcal//NONSGML v1.0//EN
BEGIN:VEVENT
UID:4448@carbolite
ORGANIZER:CN=Carbolite Gero GmbH & Co. KG
DTSTART;VALUE=DATE:20220904
DTEND;VALUE=DATE:20220908
SUMMARY:I Convegno della Divisione di Chimica per le Tecnologie della Società Chimica Italiana
LOCATION:Naples - Italy
END:VEVENT
END:VCALENDAR