BEGIN:VCALENDAR
VERSION:2.0
PRODID:-//hacksw/handcal//NONSGML v1.0//EN
BEGIN:VEVENT
UID:4442@carbolite
ORGANIZER:CN=Carbolite Gero GmbH & Co. KG
DTSTART;VALUE=DATE:20220608
DTEND;VALUE=DATE:20220610
SUMMARY:TCT 3Sixty
LOCATION:Hall Hall 9 - Booth L50 - NEC - Birmingham - United Kingdom
END:VEVENT
END:VCALENDAR