BEGIN:VCALENDAR
VERSION:2.0
PRODID:-//hacksw/handcal//NONSGML v1.0//EN
BEGIN:VEVENT
UID:4404@carbolite
ORGANIZER:CN=Carbolite Gero GmbH & Co. KG
DTSTART;VALUE=DATE:20221012
DTEND;VALUE=DATE:20221016
SUMMARY:BI-MU
LOCATION:Milan - Italy
END:VEVENT
END:VCALENDAR