BEGIN:VCALENDAR
VERSION:2.0
PRODID:-//hacksw/handcal//NONSGML v1.0//EN
BEGIN:VEVENT
UID:4402@carbolite
ORGANIZER:CN=Carbolite Gero GmbH & Co. KG
DTSTART;VALUE=DATE:20220423
DTEND;VALUE=DATE:20220427
SUMMARY:Cast Expo & Metalcasting Congress
LOCATION:Booth #2003 - Columbus, OH - United States
END:VEVENT
END:VCALENDAR