BEGIN:VCALENDAR
VERSION:2.0
PRODID:-//hacksw/handcal//NONSGML v1.0//EN
BEGIN:VEVENT
UID:4338@carbolite
ORGANIZER:CN=Carbolite Gero GmbH & Co. KG
DTSTART;VALUE=DATE:20211116
DTEND;VALUE=DATE:20211120
SUMMARY:FormNext 2021
LOCATION:Hall 12.0 - Booth E139 - Frankfurt am Main - Germany
END:VEVENT
END:VCALENDAR