BEGIN:VCALENDAR
VERSION:2.0
PRODID:-//hacksw/handcal//NONSGML v1.0//EN
BEGIN:VEVENT
UID:4061@carbolite
ORGANIZER:CN=Carbolite Gero GmbH & Co. KG
DTSTART;VALUE=DATE:20200318
DTEND;VALUE=DATE:20200320
SUMMARY:LABORAMA
LOCATION:Hall Brussels EXPO - Booth F34 - Brussels - Belgium
END:VEVENT
END:VCALENDAR