BEGIN:VCALENDAR
VERSION:2.0
PRODID:-//hacksw/handcal//NONSGML v1.0//EN
BEGIN:VEVENT
UID:4008@carbolite
ORGANIZER:CN=Carbolite Gero GmbH & Co. KG
DTSTART;VALUE=DATE:20220621
DTEND;VALUE=DATE:20220624
SUMMARY:Hillhead 2022
LOCATION:Booth RA2 - Buxton - United Kingdom
END:VEVENT
END:VCALENDAR