BEGIN:VCALENDAR
VERSION:2.0
PRODID:-//hacksw/handcal//NONSGML v1.0//EN
BEGIN:VEVENT
UID:4000@carbolite
ORGANIZER:CN=Carbolite Gero GmbH & Co. KG
DTSTART;VALUE=DATE:20200122
DTEND;VALUE=DATE:20200125
SUMMARY:Automotive Testing Expo
LOCATION:Booth 2078 - Chennai - India
END:VEVENT
END:VCALENDAR