BEGIN:VCALENDAR
VERSION:2.0
PRODID:-//hacksw/handcal//NONSGML v1.0//EN
BEGIN:VEVENT
UID:3997@carbolite
ORGANIZER:CN=Carbolite Gero GmbH & Co. KG
DTSTART;VALUE=DATE:20200219
DTEND;VALUE=DATE:20200222
SUMMARY:TCT Asia
LOCATION:Hall N1 - Booth A44 - Shanghai - China
END:VEVENT
END:VCALENDAR