BEGIN:VCALENDAR
VERSION:2.0
PRODID:-//hacksw/handcal//NONSGML v1.0//EN
BEGIN:VEVENT
UID:3979@carbolite
ORGANIZER:CN=Carbolite Gero GmbH & Co. KG
DTSTART;VALUE=DATE:20200331
DTEND;VALUE=DATE:20200403
SUMMARY:Control Days
LOCATION:Hall 1 - Booth 040 - Moscow - Russia
END:VEVENT
END:VCALENDAR