BEGIN:VCALENDAR
VERSION:2.0
PRODID:-//hacksw/handcal//NONSGML v1.0//EN
BEGIN:VEVENT
UID:3958@carbolite
ORGANIZER:CN=Carbolite Gero GmbH & Co. KG
DTSTART;VALUE=DATE:20200319

SUMMARY:NJ Asphalt Paving Conference
LOCATION:Ewing, NJ - United States
END:VEVENT
END:VCALENDAR