BEGIN:VCALENDAR
VERSION:2.0
PRODID:-//hacksw/handcal//NONSGML v1.0//EN
BEGIN:VEVENT
UID:3881@carbolite
ORGANIZER:CN=Carbolite Gero GmbH & Co. KG
DTSTART;VALUE=DATE:20190605
DTEND;VALUE=DATE:20190608
SUMMARY:European Conference on Heat Treatment
LOCATION:Bardolino - Italy
END:VEVENT
END:VCALENDAR