BEGIN:VCALENDAR
VERSION:2.0
PRODID:-//hacksw/handcal//NONSGML v1.0//EN
BEGIN:VEVENT
UID:3879@carbolite
ORGANIZER:CN=Carbolite Gero GmbH & Co. KG
DTSTART;VALUE=DATE:20191022
DTEND;VALUE=DATE:20191024
SUMMARY:Battery Technology Show
LOCATION:Hall Ricoh Arena - Booth B28 - Coventry - United Kingdom
END:VEVENT
END:VCALENDAR