BEGIN:VCALENDAR
VERSION:2.0
PRODID:-//hacksw/handcal//NONSGML v1.0//EN
BEGIN:VEVENT
UID:3871@carbolite
ORGANIZER:CN=Carbolite Gero GmbH & Co. KG
DTSTART;VALUE=DATE:20190709
DTEND;VALUE=DATE:20190712
SUMMARY:The International Conference on Additive Manufacturing & 3D Printing
LOCATION:Nottingham - United Kingdom
END:VEVENT
END:VCALENDAR