BEGIN:VCALENDAR
VERSION:2.0
PRODID:-//hacksw/handcal//NONSGML v1.0//EN
BEGIN:VEVENT
UID:3865@carbolite
ORGANIZER:CN=Carbolite Gero GmbH & Co. KG
DTSTART;VALUE=DATE:20190710
DTEND;VALUE=DATE:20190712
SUMMARY:Advanced Materials Show & Ceramics UK
LOCATION:Hall The International Centre, Telford - Booth Stand 1217 - Telford - United Kingdom
END:VEVENT
END:VCALENDAR