BEGIN:VCALENDAR
VERSION:2.0
PRODID:-//hacksw/handcal//NONSGML v1.0//EN
BEGIN:VEVENT
UID:3793@carbolite
ORGANIZER:CN=Carbolite Gero GmbH & Co. KG
DTSTART;VALUE=DATE:20190625
DTEND;VALUE=DATE:20190630
SUMMARY:Thermprocess
LOCATION:Hall 9 - Booth E41 - Duesseldorf - Germany
END:VEVENT
END:VCALENDAR