BEGIN:VCALENDAR
VERSION:2.0
PRODID:-//hacksw/handcal//NONSGML v1.0//EN
BEGIN:VEVENT
UID:3782@carbolite
ORGANIZER:CN=Carbolite Gero GmbH & Co. KG
DTSTART;VALUE=DATE:20190625
DTEND;VALUE=DATE:20190628
SUMMARY:Rapid.Tech + FabCon 3.D
LOCATION:Hall 2 - Booth 204 - Erfurt - Germany
END:VEVENT
END:VCALENDAR