BEGIN:VCALENDAR
VERSION:2.0
PRODID:-//hacksw/handcal//NONSGML v1.0//EN
BEGIN:VEVENT
UID:3766@carbolite
ORGANIZER:CN=Carbolite Gero GmbH & Co. KG
DTSTART;VALUE=DATE:20190709
DTEND;VALUE=DATE:20190712
SUMMARY:Analytica Lab Africa
LOCATION:Johannesburg - South Africa
END:VEVENT
END:VCALENDAR