BEGIN:VCALENDAR
VERSION:2.0
PRODID:-//hacksw/handcal//NONSGML v1.0//EN
BEGIN:VEVENT
UID:3758@carbolite
ORGANIZER:CN=Carbolite Gero GmbH & Co. KG
DTSTART;VALUE=DATE:20190922
DTEND;VALUE=DATE:20190925
SUMMARY:Titanium
LOCATION:Booth 212/214 - Mobile, AL - United States
END:VEVENT
END:VCALENDAR