BEGIN:VCALENDAR
VERSION:2.0
PRODID:-//hacksw/handcal//NONSGML v1.0//EN
BEGIN:VEVENT
UID:3756@carbolite
ORGANIZER:CN=Carbolite Gero GmbH & Co. KG
DTSTART;VALUE=DATE:20190728
DTEND;VALUE=DATE:20190803
SUMMARY:Int. Conference on Crystal Growth & Epitaxy
LOCATION:Keystone, CO - United States
END:VEVENT
END:VCALENDAR