BEGIN:VCALENDAR
VERSION:2.0
PRODID:-//hacksw/handcal//NONSGML v1.0//EN
BEGIN:VEVENT
UID:3754@carbolite
ORGANIZER:CN=Carbolite Gero GmbH & Co. KG
DTSTART;VALUE=DATE:20190506
DTEND;VALUE=DATE:20190510
SUMMARY:AISTech
LOCATION:Booth 627 - Pittsburgh, PA - United States
END:VEVENT
END:VCALENDAR