BEGIN:VCALENDAR
VERSION:2.0
PRODID:-//hacksw/handcal//NONSGML v1.0//EN
BEGIN:VEVENT
UID:3747@carbolite
ORGANIZER:CN=Carbolite Gero GmbH & Co. KG
DTSTART;VALUE=DATE:20190328
DTEND;VALUE=DATE:20190331
SUMMARY:MECSPE
LOCATION:Hall 3 - Booth E58 - Parma - Italy
END:VEVENT
END:VCALENDAR