BEGIN:VCALENDAR
VERSION:2.0
PRODID:-//hacksw/handcal//NONSGML v1.0//EN
BEGIN:VEVENT
UID:3744@carbolite
ORGANIZER:CN=Carbolite Gero GmbH & Co. KG
DTSTART;VALUE=DATE:20190703
DTEND;VALUE=DATE:20190705
SUMMARY:Salon du Vide et des Traitements des Matériaux
LOCATION:Booth 57 - Lille - France
END:VEVENT
END:VCALENDAR