BEGIN:VCALENDAR
VERSION:2.0
PRODID:-//hacksw/handcal//NONSGML v1.0//EN
BEGIN:VEVENT
UID:3731@carbolite
ORGANIZER:CN=Carbolite Gero GmbH & Co. KG
DTSTART;VALUE=DATE:20190904
DTEND;VALUE=DATE:20190907
SUMMARY:JASIS
LOCATION:Tokyo - Japan
END:VEVENT
END:VCALENDAR