BEGIN:VCALENDAR
VERSION:2.0
PRODID:-//hacksw/handcal//NONSGML v1.0//EN
BEGIN:VEVENT
UID:3718@carbolite
ORGANIZER:CN=Carbolite Gero GmbH & Co. KG
DTSTART;VALUE=DATE:20190409
DTEND;VALUE=DATE:20190412
SUMMARY:Powtech
LOCATION:Hall 1 - Booth 552 - Nuremberg - Germany
END:VEVENT
END:VCALENDAR