BEGIN:VCALENDAR
VERSION:2.0
PRODID:-//hacksw/handcal//NONSGML v1.0//EN
BEGIN:VEVENT
UID:3658@carbolite
ORGANIZER:CN=Carbolite Gero GmbH & Co. KG
DTSTART;VALUE=DATE:20181031
DTEND;VALUE=DATE:20181102
SUMMARY:Advanced Engineering
LOCATION:Birmingham - United Kingdom
END:VEVENT
END:VCALENDAR