BEGIN:VCALENDAR
VERSION:2.0
PRODID:-//hacksw/handcal//NONSGML v1.0//EN
BEGIN:VEVENT
UID:3507@carbolite
ORGANIZER:CN=Carbolite Gero GmbH & Co. KG
DTSTART;VALUE=DATE:20180315
DTEND;VALUE=DATE:20180317
SUMMARY:Laborama
LOCATION:Hall 1 - Booth A11 - Bruxelles - Belgium
END:VEVENT
END:VCALENDAR