BEGIN:VCALENDAR
VERSION:2.0
PRODID:-//hacksw/handcal//NONSGML v1.0//EN
BEGIN:VEVENT
UID:3441@carbolite
ORGANIZER:CN=Carbolite Gero GmbH & Co. KG
DTSTART;VALUE=DATE:20180321
DTEND;VALUE=DATE:20180324
SUMMARY:Journeés Annuelles du Group Français de la Céramique
LOCATION:Bordeaux - France
END:VEVENT
END:VCALENDAR