BEGIN:VCALENDAR
VERSION:2.0
PRODID:-//hacksw/handcal//NONSGML v1.0//EN
BEGIN:VEVENT
UID:3439@carbolite
ORGANIZER:CN=Carbolite Gero GmbH & Co. KG
DTSTART;VALUE=DATE:20181204
DTEND;VALUE=DATE:20181207
SUMMARY:India Pharma Week
LOCATION:Mumbai - India
END:VEVENT
END:VCALENDAR