BEGIN:VCALENDAR
VERSION:2.0
PRODID:-//hacksw/handcal//NONSGML v1.0//EN
BEGIN:VEVENT
UID:3438@carbolite
ORGANIZER:CN=Carbolite Gero GmbH & Co. KG
DTSTART;VALUE=DATE:20180110
DTEND;VALUE=DATE:20180113
SUMMARY:Automotive Testing Expo
LOCATION:Booth 1039 - Chennai - India
END:VEVENT
END:VCALENDAR