BEGIN:VCALENDAR
VERSION:2.0
PRODID:-//hacksw/handcal//NONSGML v1.0//EN
BEGIN:VEVENT
UID:3420@carbolite
ORGANIZER:CN=Carbolite Gero GmbH & Co. KG
DTSTART;VALUE=DATE:20181002
DTEND;VALUE=DATE:20181005
SUMMARY:Heat Treatment
LOCATION:Hall 7.1 - Booth E01 - Moscow - Russia
END:VEVENT
END:VCALENDAR